BEGIN:VCALENDAR
VERSION:2.0
PRODID:-//Calbe macht Kultur - ECPv6.15.18//NONSGML v1.0//EN
CALSCALE:GREGORIAN
METHOD:PUBLISH
X-WR-CALNAME:Calbe macht Kultur
X-ORIGINAL-URL:https://www.calbemachtkultur.de
X-WR-CALDESC:Veranstaltungen für Calbe macht Kultur
REFRESH-INTERVAL;VALUE=DURATION:PT1H
X-Robots-Tag:noindex
X-PUBLISHED-TTL:PT1H
BEGIN:VTIMEZONE
TZID:Europe/Berlin
BEGIN:DAYLIGHT
TZOFFSETFROM:+0100
TZOFFSETTO:+0200
TZNAME:CEST
DTSTART:20250330T010000
END:DAYLIGHT
BEGIN:STANDARD
TZOFFSETFROM:+0200
TZOFFSETTO:+0100
TZNAME:CET
DTSTART:20251026T010000
END:STANDARD
BEGIN:DAYLIGHT
TZOFFSETFROM:+0100
TZOFFSETTO:+0200
TZNAME:CEST
DTSTART:20260329T010000
END:DAYLIGHT
BEGIN:STANDARD
TZOFFSETFROM:+0200
TZOFFSETTO:+0100
TZNAME:CET
DTSTART:20261025T010000
END:STANDARD
BEGIN:DAYLIGHT
TZOFFSETFROM:+0100
TZOFFSETTO:+0200
TZNAME:CEST
DTSTART:20270328T010000
END:DAYLIGHT
BEGIN:STANDARD
TZOFFSETFROM:+0200
TZOFFSETTO:+0100
TZNAME:CET
DTSTART:20271031T010000
END:STANDARD
END:VTIMEZONE
BEGIN:VEVENT
DTSTART;TZID=Europe/Berlin:20260510T140000
DTEND;TZID=Europe/Berlin:20260510T170000
DTSTAMP:20260424T134623
CREATED:20260422T093941Z
LAST-MODIFIED:20260422T095116Z
UID:1223-1778421600-1778432400@www.calbemachtkultur.de
SUMMARY:5. Generationenkonzert „Calbenser für Calbe“
DESCRIPTION:Am 10. Mai 2026 ab 14:30 Uhr lädt der Calbenser Frauenchor herzlich zum beliebten Generationenkonzert „Calbenser für Calbe“ in die St.-Stephani-Kirche in Calbe ein. \nDas traditionsreiche Konzert geht in diesem Jahr in seine fünfte Runde. Seit Jahresbeginn bereiten sich der Frauenchor inTakt sowie die Kinderchöre der Calbenser Grundschule und des Gymnasiums intensiv auf diesen besonderen Nachmittag vor. Gemeinsam mit Solistinnen\, Solisten und Instrumentalistinnen und Instrumentalisten entsteht ein abwechslungsreiches Programm\, das verschiedene Generationen musikalisch verbindet. \nFreuen Sie sich auf ein unterhaltsames und anspruchsvolles Konzert mit vielen Mitwirkenden aus Calbe und Umgebung. \nEs wirken mit:Sophie Hartlepp\, Emilia\, Jessica Lange\, Nora Diebel\, Niklas Wolter\, Lennox Mühlberg\, Ida Krause\, Frieda Nebelung\, Ida Grützmacher\, Nele PluntkeKinderchor des Friedrich-Schiller-Gymnasiums (Leitung: Katrin Püsche)Kinderchor der Gotthold-Ephraim-Lessing-Grundschule (Leitung: Sabine Gahr & Kathrina Diebner)Calbenser Frauenchor inTakt \nModeration: Henry Alex & Christian NaumannTechnik: Marco WendelDokumentation: Simon Berner \nDas Projekt wird gefördert durch das Bundesprogramm „Demokratie leben!“ für die Region Calbe\, Barby und Bördeland. \n🕒 Einlass 14:00 Uhr🎟 Eintritt frei
URL:https://www.calbemachtkultur.de/veranstaltung/5-generationenkonzert-calbenser-fuer-calbe/
LOCATION:St. Stephani Kirche\, St. Stephani\, Calbe (Saale)\, 39240
ATTACH;FMTTYPE=image/jpeg:https://www.calbemachtkultur.de/wp-content/uploads/2026/04/Calbenser-Frauenchor-Generationenkonzert-Calbenser-fuer-Calbenser.jpg
END:VEVENT
BEGIN:VEVENT
DTSTART;TZID=Europe/Berlin:20260531T170000
DTEND;TZID=Europe/Berlin:20260531T190000
DTSTAMP:20260424T134623
CREATED:20260212T114808Z
LAST-MODIFIED:20260328T102926Z
UID:1184-1780246800-1780254000@www.calbemachtkultur.de
SUMMARY:Gospelkonzert
DESCRIPTION:Tauchen Sie ein in eine Welt voller Hoffnung\, Freude und Inspiration!\nDie Nienburger Gospelsingers laden Sie herzlich ein zu einer Stunde\, an dem Musik nicht nur gehört\, sondern tief im Herzen gespürt wird. \nErleben Sie die Kraft des Gospels – Lieder\, die Mut schenken\, Gemeinschaft stärken und den Alltag vergessen lassen. Von schwungvollen Rhythmen\, die zum Mitklatschen einladen\, bis zu sanften Melodien\, die wie ein Lichtstrahl die Seele wärmen. \nKommen Sie\, lassen Sie sich inspirieren – und gehen Sie mit einem Herzen voller Musik und Hoffnung nach Hause. \n Kirche St. Norbert Calbe\, Magdeburger Str. 88\n Sonntag\, 31. Mai 2026\n Einlass 16.30 Uhr\, Beginn 17.00 Uhr\n kostenlos (Spenden willkommen)\nfreie Platzwahl
URL:https://www.calbemachtkultur.de/veranstaltung/gospelkonzert/
LOCATION:Kirche St. Norbert Calbe\, Magdeburger Straße 88\, Calbe (Saale)\, 39240
ATTACH;FMTTYPE=image/jpeg:https://www.calbemachtkultur.de/wp-content/uploads/2026/02/Gospelchor.jpeg
END:VEVENT
BEGIN:VEVENT
DTSTART;TZID=Europe/Berlin:20260620T160000
DTEND;TZID=Europe/Berlin:20260620T190000
DTSTAMP:20260424T134623
CREATED:20260113T142610Z
LAST-MODIFIED:20260113T142610Z
UID:1153-1781971200-1781982000@www.calbemachtkultur.de
SUMMARY:18. Gottesgnaden Musikfestival
DESCRIPTION:Am 20. Juni 2026 findet das 18. Gottesgnaden Musikfestival an der Hospitalkircge auf der Saalinsel Gottesgnaden statt. Alle Musikfreundinnen uns Musikfreunde sind wieder herzlich eingeladen gemeinsam der Musik zu lauschen bei einer wunderbar gelassenen Stimmung.\nFür Getränke und Leckereien am Grill ist natürlich gesorgt. \nmehr Infomationen folgen demnächst
URL:https://www.calbemachtkultur.de/veranstaltung/18-gottesgnaden-musikfestival/
LOCATION:Hospitalkirche Gottestgnaden\, Hospitalkapelle\, Gottesgnaden\, 39240\, Germany
ATTACH;FMTTYPE=image/jpeg:https://www.calbemachtkultur.de/wp-content/uploads/2026/01/18-Gottestgnaden-Musikfestival.jpeg
ORGANIZER;CN="Gottesgnaden Musikfestival e.V.":MAILTO:info@gottesgnaden.de
END:VEVENT
BEGIN:VEVENT
DTSTART;TZID=Europe/Berlin:20260821T000000
DTEND;TZID=Europe/Berlin:20260821T000000
DTSTAMP:20260424T134623
CREATED:20260110T174011Z
LAST-MODIFIED:20260110T174011Z
UID:1129-1787270400-1787270400@www.calbemachtkultur.de
SUMMARY:Sommerfest
DESCRIPTION:mehr Infomationen folgen demnächst
URL:https://www.calbemachtkultur.de/veranstaltung/sommerfest/
END:VEVENT
BEGIN:VEVENT
DTSTART;TZID=Europe/Berlin:20261023T200000
DTEND;TZID=Europe/Berlin:20261023T220000
DTSTAMP:20260424T134623
CREATED:20260110T173908Z
LAST-MODIFIED:20260309T180617Z
UID:1127-1792785600-1792792800@www.calbemachtkultur.de
SUMMARY:Konzert & Comedy mit Friedrich & Wiesenhütter
DESCRIPTION:Mit Friedrich & Wiesenhütter ist am 24. Oktober ein Berliner Duo mit Herz\, Humor und Haltung im KuK zu Gast. Handgemachte Musik trifft auf virtuose Gitarrenarbeit und Texte\, die vom Leben geschrieben sind.Zwischen Melancholie und bissiger Ironie nehmen die beiden ihr Publikum mit auf eine musikalische Reise fernab von Mainstream und Trends. Ein Konzertabend voller Charakter\, Wortwitz und ehrlicher Musik. \n📍 KuK Calbe\, Feldstraße 17\n📅 Freitag\, 23. Oktober 2026\n🕗 Einlass 19.00 Uhr\, Beginn 20.00 Uhr\n🎟 VKK 10 Euro\nLotto König Calbe\, Wilhelm-Loewe-Straße 21\noder Ticketpay
URL:https://www.calbemachtkultur.de/veranstaltung/konzert-comedy-friedrich-wiesenhuetter/
LOCATION:Kunst- und Kulturzentrum Calbe\, Feldstraße 17\, Calbe (Saale)\, 39240
END:VEVENT
END:VCALENDAR